Workbook

Sheet Read Me First
A2: Read this all the way through first. The 15 minutes you take to do this will hopefully save you hours and also a whole bunch of grief.
A4: This workbook enables you to build a Setlistmaker MIDI import file using data from the Yamaha MO6/8 Data List manual
A5: It is virtually eliminates manual lookup of the MIDI parameters from the manual, and errors associated manual data entry of this information into Setlistmaker
A7: Limitations and assumptions:
A8: The scope of this workbook are the Voice and Performance patches of the Yamaha MO6/8 only. It should be easily modifiable for other DAWs, expecially other Motif models
A9: IT IS ASSUMED THAT THIS IS NOT YOUR FIRST RODEO WITH EXCEL. You don't need to be a guru, but you need some degree of saavy to use this workbook, or to modify it to suit your specific needs.
A10: You also should have a good working knowledge of Setlistmaker
A11: It is also very helpful to have a t least a rudimentary knowledge of MIDI
A12: If you don’t have those skills, find someone who does, if only to answer questions
A13: IT IS ALSO ASSUMED THAT YOU HAVE FAMILIARITY WITH THE MO6/8 DAW
A14: None of the cells in this workbook are protected
A15: Make sure you configure Setlistmaker to execute the Raw MIDI command BEFORE the MIDI Preset command
... A18: At a summary level, the basic operational process is:
B19: In the "OUTPUT" sheet, enter which Voice and/or Performance patches you want to send Setlistmaker MIDI Preset rows.
B20: Rows with the MIDI Preset commands have already been built for all the Voice and Performance patches in the MO6/8, and are stored in the "Patches" sheet
B21: An Excel vlookup function in "OUTPUT" looks up the proper MIDI Preset data from "Patches" and puts them in OUTPUT.
B22: You then copy the cells from the column in "OUTPUT" that has the MIDI Preset commands, paste into an editor of your choosing, and then import into Setlistmaker.
A25: Details: Here's specifically what is in each column of the various sheets, and how its used, or how you use them
A27: In the "Patches" sheet:
B28: Contains:
C29: A copy of the Performance and Voice data tables taken from the Yamaha MO6/MO8 Data List manual, plus some additional data.
C30: The calculated MIDI Preset rows to be imported into Setlistmaker
C31: Col A: | D31: Hidden. Contains a created lookup code used by vlookup in the OUPUT table.
C32: Col B: | D32: Patch Type. "Perf" for Performance patches and "Voice" for Voice patches
C33: Col C: | D33: Bank. The Bank name from the Data List manual
C34: Col D: | D34: Grp Nbr. The alphanumeric code used within each bank for the patch, taken from the Data List manual
C35: Col E/F/G: | D35: The MSB, LSB, and Program# sent to the MO to change the program. Decimal notation. From the Data List manual
C36: Col H/I/J: | D36: Col E/F/G in hexadecimal notation. Not used in this workbook, for reference
C37: Col K/L/M: | D37: The patch name, category and sub category - from the Data List manual
C38: Col N: | D38: Builds the row for the MIDI Preset entry for import into Setlistmaker, in the format required.
D39: The data structure of this command string contains some arbitrary decisions that you can edit if you like. Setlistmaker fields are in CAPS:
E40: The information for the NAME is a concatenation of abbreviations of the Patch Type, Bank, and Program# separated by colons, plus the patch name
E41: This is so you can easily cross reference the patch used on the MO for each song directly from within Setlistmaker, not just by the patch name
E42: The name of the DEVICE is pulled from the "Codes" sheet. Change this to whatever you want to call it in Setlistmaker
E43: The MSB, LSB, and Program number are next, formatted as required by Setlistmaker
E44: The Raw Midi Command is next; switches the MO to Voice or Performance mode before executing the MIDI Preset string. Required for the MO. From Codes
C45: Col O: | D45: Replacement Name. If you've want something other than the Yamaha-supplied patch name for the MIDI Preset NAME in Setlistmaker, put it here.
D46: The workbook comes with some names in this column as a representative example. At a minimum, you shoud delete that data
A49: In the "Codes" sheet
C50: COL A/B: | D50: Contain data used in the "Patches" sheet above, specifically, the NAME, and the Raw MIDI commands needed to switch to Voice or Perfomance mode as needed
C51: COL D/K: | D51: A table showing the range of values for the various patches in the MO. Taken from the Data List Manual. Reference only, not used
A54: In the "OUTPUT" sheet
C55: Enables you to specify which patch program changes are used as rows in the Setlistmaker import file
C56: You specify what you want to be sent as follows
C57: Col A: | D57: Enter "Voice" or "Perf"
C58: Col B: | D58: Enter the Bank name as it appears in the "Patches" sheet
C59: Col C: | D59: If Col A="Voice", then enter the Grp Nbr from "Patches"
D60: If Col A="Perf", then enter the Program# from "Patches" (because Performances have no Group Number)
C61: Col D: | D61: Hidden. A created index code used to vlookup the row in "Patches" (by matching Col A in "Patches"), and retrieve the corresponding MIDI Preset string
C62: Col E: | D62: Contains the Setlistmaker MIDI Preset String vlookup'd from Col N of "Patches"
C64: If you need more rows, simply copy/paste Col A-E and change the data in Col A-C to match the desired row in "Patches". Fewer rows, simply delete
A66: To create the Setlistmaker import file
C67: Copy Col E of "Output" and paste-as-text into a text editor or word processor.
C68: Use Find/Replace to remove the double quotes at the beginning and end of each row (Notepad and WORD both insert double quotes)
C69: Save as a text file
A72: Then import per Setlistmaker instructions

Sheet OUTPUT
A1: Desired Program | E1: Send/Import this MIDI String to Setlistmaker
A2: Voice | B2: GM | C2: A01 | D2: =CONCATENATE(A2,B2,TEXT(C2,"000")) -> VoiceGMA01 | E2: =VLOOKUP(D2,Patches!$A$3:$N$1154,14) -> V:GM:000:ConcertGnd Yamaha MO8|00|00|000 Yamaha MO8 F0 43 10 7F 00 0A 00 01 01 F7
A3: Voice | B3: GM | C3: A02 | D3: =CONCATENATE(A3,B3,TEXT(C3,"000")) -> VoiceGMA02 | E3: =VLOOKUP(D3,Patches!$A$3:$N$1154,14) -> V:GM:001:Rock Brite Yamaha MO8|00|00|001 Yamaha MO8 F0 43 10 7F 00 0A 00 01 01 F7
A4: Voice | B4: GM | C4: A13 | D4: =CONCATENATE(A4,B4,TEXT(C4,"000")) -> VoiceGMA13 | E4: =VLOOKUP(D4,Patches!$A$3:$N$1154,14) -> V:GM:012:Marimba Yamaha MO8|00|00|012 Yamaha MO8 F0 43 10 7F 00 0A 00 01 01 F7
A5: Voice | B5: GM | C5: B02 | D5: =CONCATENATE(A5,B5,TEXT(C5,"000")) -> VoiceGMB02 | E5: =VLOOKUP(D5,Patches!$A$3:$N$1154,14) -> V:GM:017:Perc Organ Yamaha MO8|00|00|017 Yamaha MO8 F0 43 10 7F 00 0A 00 01 01 F7
A6: Voice | B6: GM | C6: B03 | D6: =CONCATENATE(A6,B6,TEXT(C6,"000")) -> VoiceGMB03 | E6: =VLOOKUP(D6,Patches!$A$3:$N$1154,14) -> V:GM:018:Rock Organ Yamaha MO8|00|00|018 Yamaha MO8 F0 43 10 7F 00 0A 00 01 01 F7
A7: Voice | B7: GM | C7: C09 | D7: =CONCATENATE(A7,B7,TEXT(C7,"000")) -> VoiceGMC09 | E7: =VLOOKUP(D7,Patches!$A$3:$N$1154,14) -> V:GM:040:Violin 2 Yamaha MO8|00|00|040 Yamaha MO8 F0 43 10 7F 00 0A 00 01 01 F7
A8: Voice | B8: GM | C8: D09 | D8: =CONCATENATE(A8,B8,TEXT(C8,"000")) -> VoiceGMD09 | E8: =VLOOKUP(D8,Patches!$A$3:$N$1154,14) -> V:GM:056:Trumpet Yamaha MO8|00|00|056 Yamaha MO8 F0 43 10 7F 00 0A 00 01 01 F7
A9: Voice | B9: GM | C9: D14 | D9: =CONCATENATE(A9,B9,TEXT(C9,"000")) -> VoiceGMD14 | E9: =VLOOKUP(D9,Patches!$A$3:$N$1154,14) -> V:GM:061:Brass Sect Yamaha MO8|00|00|061 Yamaha MO8 F0 43 10 7F 00 0A 00 01 01 F7
A10: Voice | B10: GM | C10: F11 | D10: =CONCATENATE(A10,B10,TEXT(C10,"000")) -> VoiceGMF11 | E10: =VLOOKUP(D10,Patches!$A$3:$N$1154,14) -> V:GM:090:Poly Synth Yamaha MO8|00|00|090 Yamaha MO8 F0 43 10 7F 00 0A 00 01 01 F7
A11: Voice | B11: Pre1 | C11: A01 | D11: =CONCATENATE(A11,B11,TEXT(C11,"000")) -> VoicePre1A01 | E11: =VLOOKUP(D11,Patches!$A$3:$N$1154,14) -> V:P1:000:Full Grand Yamaha MO8|63|00|000 Yamaha MO8 F0 43 10 7F 00 0A 00 01 00 F7
A12: Voice | B12: Pre1 | C12: A11 | D12: =CONCATENATE(A12,B12,TEXT(C12,"000")) -> VoicePre1A11 | E12: =VLOOKUP(D12,Patches!$A$3:$N$1154,14) -> V:P1:010:PianoBack Yamaha MO8|63|00|010 Yamaha MO8 F0 43 10 7F 00 0A 00 01 00 F7
A13: Voice | B13: Pre1 | C13: B03 | D13: =CONCATENATE(A13,B13,TEXT(C13,"000")) -> VoicePre1B03 | E13: =VLOOKUP(D13,Patches!$A$3:$N$1154,14) -> V:P1:018:Vintage'74 Yamaha MO8|63|00|018 Yamaha MO8 F0 43 10 7F 00 0A 00 01 00 F7
... A30: Voice | B30: Pre3 | C30: E14 | D30: =CONCATENATE(A30,B30,TEXT(C30,"000")) -> VoicePre3E14 | E30: =VLOOKUP(D30,Patches!$A$3:$N$1154,14) -> V:P3:077:FaaatDance Yamaha MO8|63|02|077 Yamaha MO8 F0 43 10 7F 00 0A 00 01 00 F7
A31: Perf | B31: User1 | C31: 1 | D31: =CONCATENATE(A31,B31,TEXT(C31,"000")) -> PerfUser1001 | E31: =VLOOKUP(D31,Patches!$A$3:$N$1154,14) -> P:U1:000:Livin' On A Prayer Yamaha MO8|63|64|000 Yamaha MO8 F0 43 10 7F 00 0A 00 01 01 F7
A32: Perf | B32: User1 | C32: 2 | D32: =CONCATENATE(A32,B32,TEXT(C32,"000")) -> PerfUser1002 | E32: =VLOOKUP(D32,Patches!$A$3:$N$1154,14) -> P:U1:001:Who Says You Can't Go Home Yamaha MO8|63|64|001 Yamaha MO8 F0 43 10 7F 00 0A 00 01 01 F7
A33: Perf | B33: User1 | C33: 3 | D33: =CONCATENATE(A33,B33,TEXT(C33,"000")) -> PerfUser1003 | E33: =VLOOKUP(D33,Patches!$A$3:$N$1154,14) -> P:U1:002:Raise Your Glass Yamaha MO8|63|64|002 Yamaha MO8 F0 43 10 7F 00 0A 00 01 01 F7
A34: Perf | B34: User1 | C34: 4 | D34: =CONCATENATE(A34,B34,TEXT(C34,"000")) -> PerfUser1004 | E34: =VLOOKUP(D34,Patches!$A$3:$N$1154,14) -> P:U1:003:Just Like Heaven Yamaha MO8|63|64|003 Yamaha MO8 F0 43 10 7F 00 0A 00 01 01 F7
A35: Perf | B35: User1 | C35: 5 | D35: =CONCATENATE(A35,B35,TEXT(C35,"000")) -> PerfUser1005 | E35: =VLOOKUP(D35,Patches!$A$3:$N$1154,14) -> P:U1:004:Spiderwebs Yamaha MO8|63|64|004 Yamaha MO8 F0 43 10 7F 00 0A 00 01 01 F7
A36: Perf | B36: User1 | C36: 6 | D36: =CONCATENATE(A36,B36,TEXT(C36,"000")) -> PerfUser1006 | E36: =VLOOKUP(D36,Patches!$A$3:$N$1154,14) -> P:U1:005:Shake Your Body Down Yamaha MO8|63|64|005 Yamaha MO8 F0 43 10 7F 00 0A 00 01 01 F7
A37: Perf | B37: User1 | C37: 7 | D37: =CONCATENATE(A37,B37,TEXT(C37,"000")) -> PerfUser1007 | E37: =VLOOKUP(D37,Patches!$A$3:$N$1154,14) -> P:U1:006:Mercy Yamaha MO8|63|64|006 Yamaha MO8 F0 43 10 7F 00 0A 00 01 01 F7
A38: Perf | B38: User1 | C38: 8 | D38: =CONCATENATE(A38,B38,TEXT(C38,"000")) -> PerfUser1008 | E38: =VLOOKUP(D38,Patches!$A$3:$N$1154,14) -> P:U1:007:My Favorite Mistake Yamaha MO8|63|64|007 Yamaha MO8 F0 43 10 7F 00 0A 00 01 01 F7
A39: Perf | B39: User1 | C39: 9 | D39: =CONCATENATE(A39,B39,TEXT(C39,"000")) -> PerfUser1009 | E39: =VLOOKUP(D39,Patches!$A$3:$N$1154,14) -> P:U1:008:Valerie Yamaha MO8|63|64|008 Yamaha MO8 F0 43 10 7F 00 0A 00 01 01 F7
A40: Perf | B40: User1 | C40: 10 | D40: =CONCATENATE(A40,B40,TEXT(C40,"000")) -> PerfUser1010 | E40: =VLOOKUP(D40,Patches!$A$3:$N$1154,14) -> P:U1:009:Respect Yamaha MO8|63|64|009 Yamaha MO8 F0 43 10 7F 00 0A 00 01 01 F7
A41: Perf | B41: User1 | C41: 11 | D41: =CONCATENATE(A41,B41,TEXT(C41,"000")) -> PerfUser1011 | E41: =VLOOKUP(D41,Patches!$A$3:$N$1154,14) -> P:U1:010:Would I Lie To You Yamaha MO8|63|64|010 Yamaha MO8 F0 43 10 7F 00 0A 00 01 01 F7
A42: Perf | B42: User1 | C42: 12 | D42: =CONCATENATE(A42,B42,TEXT(C42,"000")) -> PerfUser1012 | E42: =VLOOKUP(D42,Patches!$A$3:$N$1154,14) -> P:U1:011:Lady Marmalade Yamaha MO8|63|64|011 Yamaha MO8 F0 43 10 7F 00 0A 00 01 01 F7
... A47: Perf | B47: User1 | C47: 17 | D47: =CONCATENATE(A47,B47,TEXT(C47,"000")) -> PerfUser1017 | E47: =VLOOKUP(D47,Patches!$A$3:$N$1154,14) -> P:U1:016:Shake It Off Yamaha MO8|63|64|016 Yamaha MO8 F0 43 10 7F 00 0A 00 01 01 F7

Sheet Patches
A1: Excel Lookup Code | B1: Patch Type | C1: Bank | D1: Grp Nbr | E1: Decimal | H1: Hexadecimal | K1: Name | L1: Category | M1: SubCategory | N1: Calculated Setlistmaker Midi Preset String | O1: Reprogrammed - New Name
E2: MSB | F2: LSB | G2: Pgm | H2: MSB | I2: LSB | J2: Pgm
A3: =CONCATENATE(B3,C3,TEXT(G3,"000")) -> PerfUser1001 | B3: Perf | C3: User1 | D3: n/a | E3: 63 | F3: 64 | G3: 1 | H3: 3F | I3: 40 | J3: 01 | K3: Prologue | L3: Co | M3: SEQ | N3: =CONCATENATE(LEFT(B3,1),":",,LEFT(C3,1),RIGHT(C3,1),":",TEXT(G3-1,"000"),":",IF(O3="",K3,O3),CHAR(9),Codes!$B$3,"|",TEXT(E3,"00"),"|",TEXT(F3,"00"),"|",TEXT(G3-1,"000"),CHAR(9),Codes!$B$3,CHAR(9),Codes!$B$4) -> P:U1:000:Livin' On A Prayer Yamaha MO8|63|64|000 Yamaha MO8 F0 43 10 7F 00 0A 00 01 01 F7 | O3: Livin' On A Prayer
A4: =CONCATENATE(B4,C4,TEXT(G4,"000")) -> PerfUser1002 | B4: Perf | C4: User1 | D4: n/a | E4: 63 | F4: 64 | G4: 2 | H4: 3F | I4: 40 | J4: 02 | K4: Ariane | L4: Co | M4: SEQ | N4: =CONCATENATE(LEFT(B4,1),":",,LEFT(C4,1),RIGHT(C4,1),":",TEXT(G4-1,"000"),":",IF(O4="",K4,O4),CHAR(9),Codes!$B$3,"|",TEXT(E4,"00"),"|",TEXT(F4,"00"),"|",TEXT(G4-1,"000"),CHAR(9),Codes!$B$3,CHAR(9),Codes!$B$4) -> P:U1:001:Who Says You Can't Go Home Yamaha MO8|63|64|001 Yamaha MO8 F0 43 10 7F 00 0A 00 01 01 F7 | O4: Who Says You Can't Go Home
A5: =CONCATENATE(B5,C5,TEXT(G5,"000")) -> PerfUser1003 | B5: Perf | C5: User1 | D5: n/a | E5: 63 | F5: 64 | G5: 3 | H5: 3F | I5: 40 | J5: 03 | K5: Lo-LoRider | L5: Co | M5: SPLIT | N5: =CONCATENATE(LEFT(B5,1),":",,LEFT(C5,1),RIGHT(C5,1),":",TEXT(G5-1,"000"),":",IF(O5="",K5,O5),CHAR(9),Codes!$B$3,"|",TEXT(E5,"00"),"|",TEXT(F5,"00"),"|",TEXT(G5-1,"000"),CHAR(9),Codes!$B$3,CHAR(9),Codes!$B$4) -> P:U1:002:Raise Your Glass Yamaha MO8|63|64|002 Yamaha MO8 F0 43 10 7F 00 0A 00 01 01 F7 | O5: Raise Your Glass
A6: =CONCATENATE(B6,C6,TEXT(G6,"000")) -> PerfUser1004 | B6: Perf | C6: User1 | D6: n/a | E6: 63 | F6: 64 | G6: 4 | H6: 3F | I6: 40 | J6: 04 | K6: Ganesha | L6: Co | M6: SPLIT | N6: =CONCATENATE(LEFT(B6,1),":",,LEFT(C6,1),RIGHT(C6,1),":",TEXT(G6-1,"000"),":",IF(O6="",K6,O6),CHAR(9),Codes!$B$3,"|",TEXT(E6,"00"),"|",TEXT(F6,"00"),"|",TEXT(G6-1,"000"),CHAR(9),Codes!$B$3,CHAR(9),Codes!$B$4) -> P:U1:003:Just Like Heaven Yamaha MO8|63|64|003 Yamaha MO8 F0 43 10 7F 00 0A 00 01 01 F7 | O6: Just Like Heaven
A7: =CONCATENATE(B7,C7,TEXT(G7,"000")) -> PerfUser1005 | B7: Perf | C7: User1 | D7: n/a | E7: 63 | F7: 64 | G7: 5 | H7: 3F | I7: 40 | J7: 05 | K7: DJ Chartz | L7: Co | M7: SEQ | N7: =CONCATENATE(LEFT(B7,1),":",,LEFT(C7,1),RIGHT(C7,1),":",TEXT(G7-1,"000"),":",IF(O7="",K7,O7),CHAR(9),Codes!$B$3,"|",TEXT(E7,"00"),"|",TEXT(F7,"00"),"|",TEXT(G7-1,"000"),CHAR(9),Codes!$B$3,CHAR(9),Codes!$B$4) -> P:U1:004:Spiderwebs Yamaha MO8|63|64|004 Yamaha MO8 F0 43 10 7F 00 0A 00 01 01 F7 | O7: Spiderwebs
A8: =CONCATENATE(B8,C8,TEXT(G8,"000")) -> PerfUser1006 | B8: Perf | C8: User1 | D8: n/a | E8: 63 | F8: 64 | G8: 6 | H8: 3F | I8: 40 | J8: 06 | K8: DivaHaus | L8: Co | M8: SPLIT | N8: =CONCATENATE(LEFT(B8,1),":",,LEFT(C8,1),RIGHT(C8,1),":",TEXT(G8-1,"000"),":",IF(O8="",K8,O8),CHAR(9),Codes!$B$3,"|",TEXT(E8,"00"),"|",TEXT(F8,"00"),"|",TEXT(G8-1,"000"),CHAR(9),Codes!$B$3,CHAR(9),Codes!$B$4) -> P:U1:005:Shake Your Body Down Yamaha MO8|63|64|005 Yamaha MO8 F0 43 10 7F 00 0A 00 01 01 F7 | O8: Shake Your Body Down
A9: =CONCATENATE(B9,C9,TEXT(G9,"000")) -> PerfUser1007 | B9: Perf | C9: User1 | D9: n/a | E9: 63 | F9: 64 | G9: 7 | H9: 3F | I9: 40 | J9: 07 | K9: R&Ballad 1 | L9: Co | M9: SPLIT | N9: =CONCATENATE(LEFT(B9,1),":",,LEFT(C9,1),RIGHT(C9,1),":",TEXT(G9-1,"000"),":",IF(O9="",K9,O9),CHAR(9),Codes!$B$3,"|",TEXT(E9,"00"),"|",TEXT(F9,"00"),"|",TEXT(G9-1,"000"),CHAR(9),Codes!$B$3,CHAR(9),Codes!$B$4) -> P:U1:006:Mercy Yamaha MO8|63|64|006 Yamaha MO8 F0 43 10 7F 00 0A 00 01 01 F7 | O9: Mercy
A10: =CONCATENATE(B10,C10,TEXT(G10,"000")) -> PerfUser1008 | B10: Perf | C10: User1 | D10: n/a | E10: 63 | F10: 64 | G10: 8 | H10: 3F | I10: 40 | J10: 08 | K10: LunarBeams | L10: Co | M10: SEQ | N10: =CONCATENATE(LEFT(B10,1),":",,LEFT(C10,1),RIGHT(C10,1),":",TEXT(G10-1,"000"),":",IF(O10="",K10,O10),CHAR(9),Codes!$B$3,"|",TEXT(E10,"00"),"|",TEXT(F10,"00"),"|",TEXT(G10-1,"000"),CHAR(9),Codes!$B$3,CHAR(9),Codes!$B$4) -> P:U1:007:My Favorite Mistake Yamaha MO8|63|64|007 Yamaha MO8 F0 43 10 7F 00 0A 00 01 01 F7 | O10: My Favorite Mistake
A11: =CONCATENATE(B11,C11,TEXT(G11,"000")) -> PerfUser1009 | B11: Perf | C11: User1 | D11: n/a | E11: 63 | F11: 64 | G11: 9 | H11: 3F | I11: 40 | J11: 09 | K11: Nasca | L11: Me | M11: MOTION | N11: =CONCATENATE(LEFT(B11,1),":",,LEFT(C11,1),RIGHT(C11,1),":",TEXT(G11-1,"000"),":",IF(O11="",K11,O11),CHAR(9),Codes!$B$3,"|",TEXT(E11,"00"),"|",TEXT(F11,"00"),"|",TEXT(G11-1,"000"),CHAR(9),Codes!$B$3,CHAR(9),Codes!$B$4) -> P:U1:008:Valerie Yamaha MO8|63|64|008 Yamaha MO8 F0 43 10 7F 00 0A 00 01 01 F7 | O11: Valerie
A12: =CONCATENATE(B12,C12,TEXT(G12,"000")) -> PerfUser1010 | B12: Perf | C12: User1 | D12: n/a | E12: 63 | F12: 64 | G12: 10 | H12: 3F | I12: 40 | J12: 0A | K12: Flamenco | L12: Gt | M12: A.GTR | N12: =CONCATENATE(LEFT(B12,1),":",,LEFT(C12,1),RIGHT(C12,1),":",TEXT(G12-1,"000"),":",IF(O12="",K12,O12),CHAR(9),Codes!$B$3,"|",TEXT(E12,"00"),"|",TEXT(F12,"00"),"|",TEXT(G12-1,"000"),CHAR(9),Codes!$B$3,CHAR(9),Codes!$B$4) -> P:U1:009:Respect Yamaha MO8|63|64|009 Yamaha MO8 F0 43 10 7F 00 0A 00 01 01 F7 | O12: Respect
A13: =CONCATENATE(B13,C13,TEXT(G13,"000")) -> PerfUser1011 | B13: Perf | C13: User1 | D13: n/a | E13: 63 | F13: 64 | G13: 11 | H13: 3F | I13: 40 | J13: 0B | K13: ChillnKeys | L13: Co | M13: SPLIT | N13: =CONCATENATE(LEFT(B13,1),":",,LEFT(C13,1),RIGHT(C13,1),":",TEXT(G13-1,"000"),":",IF(O13="",K13,O13),CHAR(9),Codes!$B$3,"|",TEXT(E13,"00"),"|",TEXT(F13,"00"),"|",TEXT(G13-1,"000"),CHAR(9),Codes!$B$3,CHAR(9),Codes!$B$4) -> P:U1:010:Would I Lie To You Yamaha MO8|63|64|010 Yamaha MO8 F0 43 10 7F 00 0A 00 01 01 F7 | O13: Would I Lie To You
A14: =CONCATENATE(B14,C14,TEXT(G14,"000")) -> PerfUser1012 | B14: Perf | C14: User1 | D14: n/a | E14: 63 | F14: 64 | G14: 12 | H14: 3F | I14: 40 | J14: 0C | K14: Intruder | L14: Co | M14: SEQ | N14: =CONCATENATE(LEFT(B14,1),":",,LEFT(C14,1),RIGHT(C14,1),":",TEXT(G14-1,"000"),":",IF(O14="",K14,O14),CHAR(9),Codes!$B$3,"|",TEXT(E14,"00"),"|",TEXT(F14,"00"),"|",TEXT(G14-1,"000"),CHAR(9),Codes!$B$3,CHAR(9),Codes!$B$4) -> P:U1:011:Lady Marmalade Yamaha MO8|63|64|011 Yamaha MO8 F0 43 10 7F 00 0A 00 01 01 F7 | O14: Lady Marmalade
... A19: =CONCATENATE(B19,C19,TEXT(G19,"000")) -> PerfUser1017 | B19: Perf | C19: User1 | D19: n/a | E19: 63 | F19: 64 | G19: 17 | H19: 3F | I19: 40 | J19: 11 | K19: The Core | L19: Co | M19: SPLIT | N19: =CONCATENATE(LEFT(B19,1),":",,LEFT(C19,1),RIGHT(C19,1),":",TEXT(G19-1,"000"),":",IF(O19="",K19,O19),CHAR(9),Codes!$B$3,"|",TEXT(E19,"00"),"|",TEXT(F19,"00"),"|",TEXT(G19-1,"000"),CHAR(9),Codes!$B$3,CHAR(9),Codes!$B$4) -> P:U1:016:Shake It Off Yamaha MO8|63|64|016 Yamaha MO8 F0 43 10 7F 00 0A 00 01 01 F7 | O19: Shake It Off
A20: =CONCATENATE(B20,C20,TEXT(G20,"000")) -> PerfUser1018 | B20: Perf | C20: User1 | D20: n/a | E20: 63 | F20: 64 | G20: 18 | H20: 3F | I20: 40 | J20: 12 | K20: Stockholm | L20: Co | M20: SEQ | N20: =CONCATENATE(LEFT(B20,1),":",,LEFT(C20,1),RIGHT(C20,1),":",TEXT(G20-1,"000"),":",IF(O20="",K20,O20),CHAR(9),Codes!$B$3,"|",TEXT(E20,"00"),"|",TEXT(F20,"00"),"|",TEXT(G20-1,"000"),CHAR(9),Codes!$B$3,CHAR(9),Codes!$B$4) -> P:U1:017:Stockholm Yamaha MO8|63|64|017 Yamaha MO8 F0 43 10 7F 00 0A 00 01 01 F7
A21: =CONCATENATE(B21,C21,TEXT(G21,"000")) -> PerfUser1019 | B21: Perf | C21: User1 | D21: n/a | E21: 63 | F21: 64 | G21: 19 | H21: 3F | I21: 40 | J21: 13 | K21: MoreBling | L21: Co | M21: SPLIT | N21: =CONCATENATE(LEFT(B21,1),":",,LEFT(C21,1),RIGHT(C21,1),":",TEXT(G21-1,"000"),":",IF(O21="",K21,O21),CHAR(9),Codes!$B$3,"|",TEXT(E21,"00"),"|",TEXT(F21,"00"),"|",TEXT(G21-1,"000"),CHAR(9),Codes!$B$3,CHAR(9),Codes!$B$4) -> P:U1:018:MoreBling Yamaha MO8|63|64|018 Yamaha MO8 F0 43 10 7F 00 0A 00 01 01 F7
A22: =CONCATENATE(B22,C22,TEXT(G22,"000")) -> PerfUser1020 | B22: Perf | C22: User1 | D22: n/a | E22: 63 | F22: 64 | G22: 20 | H22: 3F | I22: 40 | J22: 14 | K22: HIP -E- | L22: Co | M22: SPLIT | N22: =CONCATENATE(LEFT(B22,1),":",,LEFT(C22,1),RIGHT(C22,1),":",TEXT(G22-1,"000"),":",IF(O22="",K22,O22),CHAR(9),Codes!$B$3,"|",TEXT(E22,"00"),"|",TEXT(F22,"00"),"|",TEXT(G22-1,"000"),CHAR(9),Codes!$B$3,CHAR(9),Codes!$B$4) -> P:U1:019:HIP -E- Yamaha MO8|63|64|019 Yamaha MO8 F0 43 10 7F 00 0A 00 01 01 F7
A23: =CONCATENATE(B23,C23,TEXT(G23,"000")) -> PerfUser1021 | B23: Perf | C23: User1 | D23: n/a | E23: 63 | F23: 64 | G23: 21 | H23: 3F | I23: 40 | J23: 15 | K23: BreakTranz | L23: Co | M23: SEQ | N23: =CONCATENATE(LEFT(B23,1),":",,LEFT(C23,1),RIGHT(C23,1),":",TEXT(G23-1,"000"),":",IF(O23="",K23,O23),CHAR(9),Codes!$B$3,"|",TEXT(E23,"00"),"|",TEXT(F23,"00"),"|",TEXT(G23-1,"000"),CHAR(9),Codes!$B$3,CHAR(9),Codes!$B$4) -> P:U1:020:BreakTranz Yamaha MO8|63|64|020 Yamaha MO8 F0 43 10 7F 00 0A 00 01 01 F7
A24: =CONCATENATE(B24,C24,TEXT(G24,"000")) -> PerfUser1022 | B24: Perf | C24: User1 | D24: n/a | E24: 63 | F24: 64 | G24: 22 | H24: 3F | I24: 40 | J24: 16 | K24: BottomLine | L24: Co | M24: SPLIT | N24: =CONCATENATE(LEFT(B24,1),":",,LEFT(C24,1),RIGHT(C24,1),":",TEXT(G24-1,"000"),":",IF(O24="",K24,O24),CHAR(9),Codes!$B$3,"|",TEXT(E24,"00"),"|",TEXT(F24,"00"),"|",TEXT(G24-1,"000"),CHAR(9),Codes!$B$3,CHAR(9),Codes!$B$4) -> P:U1:021:BottomLine Yamaha MO8|63|64|021 Yamaha MO8 F0 43 10 7F 00 0A 00 01 01 F7
A25: =CONCATENATE(B25,C25,TEXT(G25,"000")) -> PerfUser1023 | B25: Perf | C25: User1 | D25: n/a | E25: 63 | F25: 64 | G25: 23 | H25: 3F | I25: 40 | J25: 17 | K25: SoulStrngz | L25: Co | M25: SPLIT | N25: =CONCATENATE(LEFT(B25,1),":",,LEFT(C25,1),RIGHT(C25,1),":",TEXT(G25-1,"000"),":",IF(O25="",K25,O25),CHAR(9),Codes!$B$3,"|",TEXT(E25,"00"),"|",TEXT(F25,"00"),"|",TEXT(G25-1,"000"),CHAR(9),Codes!$B$3,CHAR(9),Codes!$B$4) -> P:U1:022:SoulStrngz Yamaha MO8|63|64|022 Yamaha MO8 F0 43 10 7F 00 0A 00 01 01 F7
A26: =CONCATENATE(B26,C26,TEXT(G26,"000")) -> PerfUser1024 | B26: Perf | C26: User1 | D26: n/a | E26: 63 | F26: 64 | G26: 24 | H26: 3F | I26: 40 | J26: 18 | K26: Dronic | L26: Co | M26: SEQ | N26: =CONCATENATE(LEFT(B26,1),":",,LEFT(C26,1),RIGHT(C26,1),":",TEXT(G26-1,"000"),":",IF(O26="",K26,O26),CHAR(9),Codes!$B$3,"|",TEXT(E26,"00"),"|",TEXT(F26,"00"),"|",TEXT(G26-1,"000"),CHAR(9),Codes!$B$3,CHAR(9),Codes!$B$4) -> P:U1:023:Dronic Yamaha MO8|63|64|023 Yamaha MO8 F0 43 10 7F 00 0A 00 01 01 F7
A27: =CONCATENATE(B27,C27,TEXT(G27,"000")) -> PerfUser1025 | B27: Perf | C27: User1 | D27: n/a | E27: 63 | F27: 64 | G27: 25 | H27: 3F | I27: 40 | J27: 19 | K27: Pacific | L27: Me | M27: MOTION | N27: =CONCATENATE(LEFT(B27,1),":",,LEFT(C27,1),RIGHT(C27,1),":",TEXT(G27-1,"000"),":",IF(O27="",K27,O27),CHAR(9),Codes!$B$3,"|",TEXT(E27,"00"),"|",TEXT(F27,"00"),"|",TEXT(G27-1,"000"),CHAR(9),Codes!$B$3,CHAR(9),Codes!$B$4) -> P:U1:024:Pacific Yamaha MO8|63|64|024 Yamaha MO8 F0 43 10 7F 00 0A 00 01 01 F7
A28: =CONCATENATE(B28,C28,TEXT(G28,"000")) -> PerfUser1026 | B28: Perf | C28: User1 | D28: n/a | E28: 63 | F28: 64 | G28: 26 | H28: 3F | I28: 40 | J28: 1A | K28: Campfire1 | L28: Gt | M28: A.GTR | N28: =CONCATENATE(LEFT(B28,1),":",,LEFT(C28,1),RIGHT(C28,1),":",TEXT(G28-1,"000"),":",IF(O28="",K28,O28),CHAR(9),Codes!$B$3,"|",TEXT(E28,"00"),"|",TEXT(F28,"00"),"|",TEXT(G28-1,"000"),CHAR(9),Codes!$B$3,CHAR(9),Codes!$B$4) -> P:U1:025:Campfire1 Yamaha MO8|63|64|025 Yamaha MO8 F0 43 10 7F 00 0A 00 01 01 F7
A29: =CONCATENATE(B29,C29,TEXT(G29,"000")) -> PerfUser1027 | B29: Perf | C29: User1 | D29: n/a | E29: 63 | F29: 64 | G29: 27 | H29: 3F | I29: 40 | J29: 1B | K29: MilesAway | L29: Co | M29: SPLIT | N29: =CONCATENATE(LEFT(B29,1),":",,LEFT(C29,1),RIGHT(C29,1),":",TEXT(G29-1,"000"),":",IF(O29="",K29,O29),CHAR(9),Codes!$B$3,"|",TEXT(E29,"00"),"|",TEXT(F29,"00"),"|",TEXT(G29-1,"000"),CHAR(9),Codes!$B$3,CHAR(9),Codes!$B$4) -> P:U1:026:MilesAway Yamaha MO8|63|64|026 Yamaha MO8 F0 43 10 7F 00 0A 00 01 01 F7
A30: =CONCATENATE(B30,C30,TEXT(G30,"000")) -> PerfUser1028 | B30: Perf | C30: User1 | D30: n/a | E30: 63 | F30: 64 | G30: 28 | H30: 3F | I30: 40 | J30: 1C | K30: Machine | L30: Co | M30: SEQ | N30: =CONCATENATE(LEFT(B30,1),":",,LEFT(C30,1),RIGHT(C30,1),":",TEXT(G30-1,"000"),":",IF(O30="",K30,O30),CHAR(9),Codes!$B$3,"|",TEXT(E30,"00"),"|",TEXT(F30,"00"),"|",TEXT(G30-1,"000"),CHAR(9),Codes!$B$3,CHAR(9),Codes!$B$4) -> P:U1:027:Machine Yamaha MO8|63|64|027 Yamaha MO8 F0 43 10 7F 00 0A 00 01 01 F7
A31: =CONCATENATE(B31,C31,TEXT(G31,"000")) -> PerfUser1029 | B31: Perf | C31: User1 | D31: n/a | E31: 63 | F31: 64 | G31: 29 | H31: 3F | I31: 40 | J31: 1D | K31: Mr.Lectro | L31: Co | M31: SPLIT | N31: =CONCATENATE(LEFT(B31,1),":",,LEFT(C31,1),RIGHT(C31,1),":",TEXT(G31-1,"000"),":",IF(O31="",K31,O31),CHAR(9),Codes!$B$3,"|",TEXT(E31,"00"),"|",TEXT(F31,"00"),"|",TEXT(G31-1,"000"),CHAR(9),Codes!$B$3,CHAR(9),Codes!$B$4) -> P:U1:028:Mr.Lectro Yamaha MO8|63|64|028 Yamaha MO8 F0 43 10 7F 00 0A 00 01 01 F7
... A184: =CONCATENATE(B184,C184,TEXT(G184,"000")) -> PerfUser2054 | B184: Perf | C184: User2 | D184: n/a | E184: 63 | F184: 65 | G184: 54 | H184: 3F | I184: 41 | J184: 36 | K184: Rainforest | L184: Cp | M184: MALLET | N184: =CONCATENATE(LEFT(B184,1),":",,LEFT(C184,1),RIGHT(C184,1),":",TEXT(G184-1,"000"),":",IF(O184="",K184,O184),CHAR(9),Codes!$B$3,"|",TEXT(E184,"00"),"|",TEXT(F184,"00"),"|",TEXT(G184-1,"000"),CHAR(9),Codes!$B$3,CHAR(9),Codes!$B$4) -> P:U2:053:Rainforest Yamaha MO8|63|65|053 Yamaha MO8 F0 43 10 7F 00 0A 00 01 01 F7
A185: =CONCATENATE(B185,C185,TEXT(G185,"000")) -> PerfUser2055 | B185: Perf | C185: User2 | D185: n/a | E185: 63 | F185: 65 | G185: 55 | H185: 3F | I185: 41 | J185: 37 | K185: 1984 | L185: Co | M185: SPLIT | N185: =CONCATENATE(LEFT(B185,1),":",,LEFT(C185,1),RIGHT(C185,1),":",TEXT(G185-1,"000"),":",IF(O185="",K185,O185),CHAR(9),Codes!$B$3,"|",TEXT(E185,"00"),"|",TEXT(F185,"00"),"|",TEXT(G185-1,"000"),CHAR(9),Codes!$B$3,CHAR(9),Codes!$B$4) -> P:U2:054:1984 Yamaha MO8|63|65|054 Yamaha MO8 F0 43 10 7F 00 0A 00 01 01 F7
A186: =CONCATENATE(B186,C186,TEXT(G186,"000")) -> PerfUser2056 | B186: Perf | C186: User2 | D186: n/a | E186: 63 | F186: 65 | G186: 56 | H186: 3F | I186: 41 | J186: 38 | K186: JazzCombo | L186: Co | M186: SPLIT | N186: =CONCATENATE(LEFT(B186,1),":",,LEFT(C186,1),RIGHT(C186,1),":",TEXT(G186-1,"000"),":",IF(O186="",K186,O186),CHAR(9),Codes!$B$3,"|",TEXT(E186,"00"),"|",TEXT(F186,"00"),"|",TEXT(G186-1,"000"),CHAR(9),Codes!$B$3,CHAR(9),Codes!$B$4) -> P:U2:055:JazzCombo Yamaha MO8|63|65|055 Yamaha MO8 F0 43 10 7F 00 0A 00 01 01 F7
A187: =CONCATENATE(B187,C187,TEXT(G187,"000")) -> PerfUser2057 | B187: Perf | C187: User2 | D187: n/a | E187: 63 | F187: 65 | G187: 57 | H187: 3F | I187: 41 | J187: 39 | K187: DynmcSectn | L187: St | M187: ENSEM. | N187: =CONCATENATE(LEFT(B187,1),":",,LEFT(C187,1),RIGHT(C187,1),":",TEXT(G187-1,"000"),":",IF(O187="",K187,O187),CHAR(9),Codes!$B$3,"|",TEXT(E187,"00"),"|",TEXT(F187,"00"),"|",TEXT(G187-1,"000"),CHAR(9),Codes!$B$3,CHAR(9),Codes!$B$4) -> P:U2:056:DynmcSectn Yamaha MO8|63|65|056 Yamaha MO8 F0 43 10 7F 00 0A 00 01 01 F7
A188: =CONCATENATE(B188,C188,TEXT(G188,"000")) -> PerfUser2058 | B188: Perf | C188: User2 | D188: n/a | E188: 63 | F188: 65 | G188: 58 | H188: 3F | I188: 41 | J188: 3A | K188: FarEast | L188: Me | M188: MOTION | N188: =CONCATENATE(LEFT(B188,1),":",,LEFT(C188,1),RIGHT(C188,1),":",TEXT(G188-1,"000"),":",IF(O188="",K188,O188),CHAR(9),Codes!$B$3,"|",TEXT(E188,"00"),"|",TEXT(F188,"00"),"|",TEXT(G188-1,"000"),CHAR(9),Codes!$B$3,CHAR(9),Codes!$B$4) -> P:U2:057:FarEast Yamaha MO8|63|65|057 Yamaha MO8 F0 43 10 7F 00 0A 00 01 01 F7
A189: =CONCATENATE(B189,C189,TEXT(G189,"000")) -> PerfUser2059 | B189: Perf | C189: User2 | D189: n/a | E189: 63 | F189: 65 | G189: 59 | H189: 3F | I189: 41 | J189: 3B | K189: LunarBeats | L189: Co | M189: SPLIT | N189: =CONCATENATE(LEFT(B189,1),":",,LEFT(C189,1),RIGHT(C189,1),":",TEXT(G189-1,"000"),":",IF(O189="",K189,O189),CHAR(9),Codes!$B$3,"|",TEXT(E189,"00"),"|",TEXT(F189,"00"),"|",TEXT(G189-1,"000"),CHAR(9),Codes!$B$3,CHAR(9),Codes!$B$4) -> P:U2:058:LunarBeats Yamaha MO8|63|65|058 Yamaha MO8 F0 43 10 7F 00 0A 00 01 01 F7
A190: =CONCATENATE(B190,C190,TEXT(G190,"000")) -> PerfUser2060 | B190: Perf | C190: User2 | D190: n/a | E190: 63 | F190: 65 | G190: 60 | H190: 3F | I190: 41 | J190: 3C | K190: SoulNight | L190: Co | M190: SPLIT | N190: =CONCATENATE(LEFT(B190,1),":",,LEFT(C190,1),RIGHT(C190,1),":",TEXT(G190-1,"000"),":",IF(O190="",K190,O190),CHAR(9),Codes!$B$3,"|",TEXT(E190,"00"),"|",TEXT(F190,"00"),"|",TEXT(G190-1,"000"),CHAR(9),Codes!$B$3,CHAR(9),Codes!$B$4) -> P:U2:059:SoulNight Yamaha MO8|63|65|059 Yamaha MO8 F0 43 10 7F 00 0A 00 01 01 F7
A191: =CONCATENATE(B191,C191,TEXT(G191,"000")) -> PerfUser2061 | B191: Perf | C191: User2 | D191: n/a | E191: 63 | F191: 65 | G191: 61 | H191: 3F | I191: 41 | J191: 3D | K191: Dream T | L191: Ld | M191: SOFT | N191: =CONCATENATE(LEFT(B191,1),":",,LEFT(C191,1),RIGHT(C191,1),":",TEXT(G191-1,"000"),":",IF(O191="",K191,O191),CHAR(9),Codes!$B$3,"|",TEXT(E191,"00"),"|",TEXT(F191,"00"),"|",TEXT(G191-1,"000"),CHAR(9),Codes!$B$3,CHAR(9),Codes!$B$4) -> P:U2:060:Dream T Yamaha MO8|63|65|060 Yamaha MO8 F0 43 10 7F 00 0A 00 01 01 F7
A192: =CONCATENATE(B192,C192,TEXT(G192,"000")) -> PerfUser2062 | B192: Perf | C192: User2 | D192: n/a | E192: 63 | F192: 65 | G192: 62 | H192: 3F | I192: 41 | J192: 3E | K192: LatinTech | L192: Co | M192: SPLIT | N192: =CONCATENATE(LEFT(B192,1),":",,LEFT(C192,1),RIGHT(C192,1),":",TEXT(G192-1,"000"),":",IF(O192="",K192,O192),CHAR(9),Codes!$B$3,"|",TEXT(E192,"00"),"|",TEXT(F192,"00"),"|",TEXT(G192-1,"000"),CHAR(9),Codes!$B$3,CHAR(9),Codes!$B$4) -> P:U2:061:LatinTech Yamaha MO8|63|65|061 Yamaha MO8 F0 43 10 7F 00 0A 00 01 01 F7
A193: =CONCATENATE(B193,C193,TEXT(G193,"000")) -> PerfUser2063 | B193: Perf | C193: User2 | D193: n/a | E193: 63 | F193: 65 | G193: 63 | H193: 3F | I193: 41 | J193: 3F | K193: ToTheMoon | L193: Co | M193: SEQ | N193: =CONCATENATE(LEFT(B193,1),":",,LEFT(C193,1),RIGHT(C193,1),":",TEXT(G193-1,"000"),":",IF(O193="",K193,O193),CHAR(9),Codes!$B$3,"|",TEXT(E193,"00"),"|",TEXT(F193,"00"),"|",TEXT(G193-1,"000"),CHAR(9),Codes!$B$3,CHAR(9),Codes!$B$4) -> P:U2:062:ToTheMoon Yamaha MO8|63|65|062 Yamaha MO8 F0 43 10 7F 00 0A 00 01 01 F7
A194: =CONCATENATE(B194,C194,TEXT(G194,"000")) -> PerfUser2064 | B194: Perf | C194: User2 | D194: n/a | E194: 63 | F194: 65 | G194: 64 | H194: 3F | I194: 41 | J194: 40 | K194: Antimatter | L194: Me | M194: MOTION | N194: =CONCATENATE(LEFT(B194,1),":",,LEFT(C194,1),RIGHT(C194,1),":",TEXT(G194-1,"000"),":",IF(O194="",K194,O194),CHAR(9),Codes!$B$3,"|",TEXT(E194,"00"),"|",TEXT(F194,"00"),"|",TEXT(G194-1,"000"),CHAR(9),Codes!$B$3,CHAR(9),Codes!$B$4) -> P:U2:063:Antimatter Yamaha MO8|63|65|063 Yamaha MO8 F0 43 10 7F 00 0A 00 01 01 F7
A195: =CONCATENATE(B195,C195,TEXT(G195,"000")) -> PerfUser2065 | B195: Perf | C195: User2 | D195: n/a | E195: 63 | F195: 65 | G195: 65 | H195: 3F | I195: 41 | J195: 41 | K195: LoveAffair | L195: Kb | M195: E.PIANO | N195: =CONCATENATE(LEFT(B195,1),":",,LEFT(C195,1),RIGHT(C195,1),":",TEXT(G195-1,"000"),":",IF(O195="",K195,O195),CHAR(9),Codes!$B$3,"|",TEXT(E195,"00"),"|",TEXT(F195,"00"),"|",TEXT(G195-1,"000"),CHAR(9),Codes!$B$3,CHAR(9),Codes!$B$4) -> P:U2:064:LoveAffair Yamaha MO8|63|65|064 Yamaha MO8 F0 43 10 7F 00 0A 00 01 01 F7
A196: =CONCATENATE(B196,C196,TEXT(G196,"000")) -> PerfUser2066 | B196: Perf | C196: User2 | D196: n/a | E196: 63 | F196: 65 | G196: 66 | H196: 3F | I196: 41 | J196: 42 | K196: CreepnWorm | L196: Pd | M196: BRIGHT | N196: =CONCATENATE(LEFT(B196,1),":",,LEFT(C196,1),RIGHT(C196,1),":",TEXT(G196-1,"000"),":",IF(O196="",K196,O196),CHAR(9),Codes!$B$3,"|",TEXT(E196,"00"),"|",TEXT(F196,"00"),"|",TEXT(G196-1,"000"),CHAR(9),Codes!$B$3,CHAR(9),Codes!$B$4) -> P:U2:065:CreepnWorm Yamaha MO8|63|65|065 Yamaha MO8 F0 43 10 7F 00 0A 00 01 01 F7
A197: =CONCATENATE(B197,C197,TEXT(G197,"000")) -> PerfUser2067 | B197: Perf | C197: User2 | D197: n/a | E197: 63 | F197: 65 | G197: 67 | H197: 3F | I197: 41 | J197: 43 | K197: Galaxion | L197: Co | M197: SPLIT | N197: =CONCATENATE(LEFT(B197,1),":",,LEFT(C197,1),RIGHT(C197,1),":",TEXT(G197-1,"000"),":",IF(O197="",K197,O197),CHAR(9),Codes!$B$3,"|",TEXT(E197,"00"),"|",TEXT(F197,"00"),"|",TEXT(G197-1,"000"),CHAR(9),Codes!$B$3,CHAR(9),Codes!$B$4) -> P:U2:066:Galaxion Yamaha MO8|63|65|066 Yamaha MO8 F0 43 10 7F 00 0A 00 01 01 F7
... A258: =CONCATENATE(B258,C258,TEXT(G258,"000")) -> PerfUser2128 | B258: Perf | C258: User2 | D258: n/a | E258: 63 | F258: 65 | G258: 128 | H258: 3F | I258: 41 | J258: 80 | K258: Provinces | L258: Se | M258: SYNTH | N258: =CONCATENATE(LEFT(B258,1),":",,LEFT(C258,1),RIGHT(C258,1),":",TEXT(G258-1,"000"),":",IF(O258="",K258,O258),CHAR(9),Codes!$B$3,"|",TEXT(E258,"00"),"|",TEXT(F258,"00"),"|",TEXT(G258-1,"000"),CHAR(9),Codes!$B$3,CHAR(9),Codes!$B$4) -> P:U2:127:Provinces Yamaha MO8|63|65|127 Yamaha MO8 F0 43 10 7F 00 0A 00 01 01 F7
A259: =CONCATENATE(B259,C259,D259) -> VoiceGMA01 | B259: Voice | C259: GM | D259: A01 | E259: 0 | F259: 0 | G259: 1 | H259: 00 | I259: 00 | J259: 01 | K259: ConcertGnd | L259: Ap | M259: A PIANO | N259: =CONCATENATE(LEFT(B259,1),":",,LEFT(C259,1),RIGHT(C259,1),":",TEXT(G259-1,"000"),":",IF(O259="",K259,O259),CHAR(9),Codes!$B$3,"|",TEXT(E259,"00"),"|",TEXT(F259,"00"),"|",TEXT(G259-1,"000"),CHAR(9),Codes!$B$3,CHAR(9),Codes!$B$4) -> V:GM:000:ConcertGnd Yamaha MO8|00|00|000 Yamaha MO8 F0 43 10 7F 00 0A 00 01 01 F7
A260: =CONCATENATE(B260,C260,D260) -> VoiceGMA02 | B260: Voice | C260: GM | D260: A02 | E260: 0 | F260: 0 | G260: 2 | H260: 00 | I260: 00 | J260: 02 | K260: Rock Brite | L260: Ap | M260: A PIANO | N260: =CONCATENATE(LEFT(B260,1),":",,LEFT(C260,1),RIGHT(C260,1),":",TEXT(G260-1,"000"),":",IF(O260="",K260,O260),CHAR(9),Codes!$B$3,"|",TEXT(E260,"00"),"|",TEXT(F260,"00"),"|",TEXT(G260-1,"000"),CHAR(9),Codes!$B$3,CHAR(9),Codes!$B$4) -> V:GM:001:Rock Brite Yamaha MO8|00|00|001 Yamaha MO8 F0 43 10 7F 00 0A 00 01 01 F7
A261: =CONCATENATE(B261,C261,D261) -> VoiceGMA03 | B261: Voice | C261: GM | D261: A03 | E261: 0 | F261: 0 | G261: 3 | H261: 00 | I261: 00 | J261: 03 | K261: CP 2001 | L261: Ap | M261: E GRAND | N261: =CONCATENATE(LEFT(B261,1),":",,LEFT(C261,1),RIGHT(C261,1),":",TEXT(G261-1,"000"),":",IF(O261="",K261,O261),CHAR(9),Codes!$B$3,"|",TEXT(E261,"00"),"|",TEXT(F261,"00"),"|",TEXT(G261-1,"000"),CHAR(9),Codes!$B$3,CHAR(9),Codes!$B$4) -> V:GM:002:CP 2001 Yamaha MO8|00|00|002 Yamaha MO8 F0 43 10 7F 00 0A 00 01 01 F7
A262: =CONCATENATE(B262,C262,D262) -> VoiceGMA04 | B262: Voice | C262: GM | D262: A04 | E262: 0 | F262: 0 | G262: 4 | H262: 00 | I262: 00 | J262: 04 | K262: Honkytonk Ap | L262: Ap | M262: A PIANO | N262: =CONCATENATE(LEFT(B262,1),":",,LEFT(C262,1),RIGHT(C262,1),":",TEXT(G262-1,"000"),":",IF(O262="",K262,O262),CHAR(9),Codes!$B$3,"|",TEXT(E262,"00"),"|",TEXT(F262,"00"),"|",TEXT(G262-1,"000"),CHAR(9),Codes!$B$3,CHAR(9),Codes!$B$4) -> V:GM:003:Honkytonk Ap Yamaha MO8|00|00|003 Yamaha MO8 F0 43 10 7F 00 0A 00 01 01 F7
A263: =CONCATENATE(B263,C263,D263) -> VoiceGMA05 | B263: Voice | C263: GM | D263: A05 | E263: 0 | F263: 0 | G263: 5 | H263: 00 | I263: 00 | J263: 05 | K263: E.Piano 1 | L263: Kb | M263: E.PIANO | N263: =CONCATENATE(LEFT(B263,1),":",,LEFT(C263,1),RIGHT(C263,1),":",TEXT(G263-1,"000"),":",IF(O263="",K263,O263),CHAR(9),Codes!$B$3,"|",TEXT(E263,"00"),"|",TEXT(F263,"00"),"|",TEXT(G263-1,"000"),CHAR(9),Codes!$B$3,CHAR(9),Codes!$B$4) -> V:GM:004:E.Piano 1 Yamaha MO8|00|00|004 Yamaha MO8 F0 43 10 7F 00 0A 00 01 01 F7
A264: =CONCATENATE(B264,C264,D264) -> VoiceGMA06 | B264: Voice | C264: GM | D264: A06 | E264: 0 | F264: 0 | G264: 6 | H264: 00 | I264: 00 | J264: 06 | K264: E.Piano 2 | L264: Kb | M264: E.PIANO | N264: =CONCATENATE(LEFT(B264,1),":",,LEFT(C264,1),RIGHT(C264,1),":",TEXT(G264-1,"000"),":",IF(O264="",K264,O264),CHAR(9),Codes!$B$3,"|",TEXT(E264,"00"),"|",TEXT(F264,"00"),"|",TEXT(G264-1,"000"),CHAR(9),Codes!$B$3,CHAR(9),Codes!$B$4) -> V:GM:005:E.Piano 2 Yamaha MO8|00|00|005 Yamaha MO8 F0 43 10 7F 00 0A 00 01 01 F7
A265: =CONCATENATE(B265,C265,D265) -> VoiceGMA07 | B265: Voice | C265: GM | D265: A07 | E265: 0 | F265: 0 | G265: 7 | H265: 00 | I265: 00 | J265: 07 | K265: Harpsicord | L265: Kb | M265: OTHER | N265: =CONCATENATE(LEFT(B265,1),":",,LEFT(C265,1),RIGHT(C265,1),":",TEXT(G265-1,"000"),":",IF(O265="",K265,O265),CHAR(9),Codes!$B$3,"|",TEXT(E265,"00"),"|",TEXT(F265,"00"),"|",TEXT(G265-1,"000"),CHAR(9),Codes!$B$3,CHAR(9),Codes!$B$4) -> V:GM:006:Harpsicord Yamaha MO8|00|00|006 Yamaha MO8 F0 43 10 7F 00 0A 00 01 01 F7
A266: =CONCATENATE(B266,C266,D266) -> VoiceGMA08 | B266: Voice | C266: GM | D266: A08 | E266: 0 | F266: 0 | G266: 8 | H266: 00 | I266: 00 | J266: 08 | K266: Brite Clav | L266: Kb | M266: CLAVI | N266: =CONCATENATE(LEFT(B266,1),":",,LEFT(C266,1),RIGHT(C266,1),":",TEXT(G266-1,"000"),":",IF(O266="",K266,O266),CHAR(9),Codes!$B$3,"|",TEXT(E266,"00"),"|",TEXT(F266,"00"),"|",TEXT(G266-1,"000"),CHAR(9),Codes!$B$3,CHAR(9),Codes!$B$4) -> V:GM:007:Brite Clav Yamaha MO8|00|00|007 Yamaha MO8 F0 43 10 7F 00 0A 00 01 01 F7
A267: =CONCATENATE(B267,C267,D267) -> VoiceGMA09 | B267: Voice | C267: GM | D267: A09 | E267: 0 | F267: 0 | G267: 9 | H267: 00 | I267: 00 | J267: 09 | K267: Celeste | L267: Cp | M267: MALLET | N267: =CONCATENATE(LEFT(B267,1),":",,LEFT(C267,1),RIGHT(C267,1),":",TEXT(G267-1,"000"),":",IF(O267="",K267,O267),CHAR(9),Codes!$B$3,"|",TEXT(E267,"00"),"|",TEXT(F267,"00"),"|",TEXT(G267-1,"000"),CHAR(9),Codes!$B$3,CHAR(9),Codes!$B$4) -> V:GM:008:Celeste Yamaha MO8|00|00|008 Yamaha MO8 F0 43 10 7F 00 0A 00 01 01 F7
A268: =CONCATENATE(B268,C268,D268) -> VoiceGMA10 | B268: Voice | C268: GM | D268: A10 | E268: 0 | F268: 0 | G268: 10 | H268: 00 | I268: 00 | J268: 0A | K268: Glocken | L268: Cp | M268: MALLET | N268: =CONCATENATE(LEFT(B268,1),":",,LEFT(C268,1),RIGHT(C268,1),":",TEXT(G268-1,"000"),":",IF(O268="",K268,O268),CHAR(9),Codes!$B$3,"|",TEXT(E268,"00"),"|",TEXT(F268,"00"),"|",TEXT(G268-1,"000"),CHAR(9),Codes!$B$3,CHAR(9),Codes!$B$4) -> V:GM:009:Glocken Yamaha MO8|00|00|009 Yamaha MO8 F0 43 10 7F 00 0A 00 01 01 F7
A269: =CONCATENATE(B269,C269,D269) -> VoiceGMA11 | B269: Voice | C269: GM | D269: A11 | E269: 0 | F269: 0 | G269: 11 | H269: 00 | I269: 00 | J269: 0B | K269: Music Box | L269: Cp | M269: PERC. | N269: =CONCATENATE(LEFT(B269,1),":",,LEFT(C269,1),RIGHT(C269,1),":",TEXT(G269-1,"000"),":",IF(O269="",K269,O269),CHAR(9),Codes!$B$3,"|",TEXT(E269,"00"),"|",TEXT(F269,"00"),"|",TEXT(G269-1,"000"),CHAR(9),Codes!$B$3,CHAR(9),Codes!$B$4) -> V:GM:010:Music Box Yamaha MO8|00|00|010 Yamaha MO8 F0 43 10 7F 00 0A 00 01 01 F7
A270: =CONCATENATE(B270,C270,D270) -> VoiceGMA12 | B270: Voice | C270: GM | D270: A12 | E270: 0 | F270: 0 | G270: 12 | H270: 00 | I270: 00 | J270: 0C | K270: Vibes | L270: Cp | M270: MALLET | N270: =CONCATENATE(LEFT(B270,1),":",,LEFT(C270,1),RIGHT(C270,1),":",TEXT(G270-1,"000"),":",IF(O270="",K270,O270),CHAR(9),Codes!$B$3,"|",TEXT(E270,"00"),"|",TEXT(F270,"00"),"|",TEXT(G270-1,"000"),CHAR(9),Codes!$B$3,CHAR(9),Codes!$B$4) -> V:GM:011:Vibes Yamaha MO8|00|00|011 Yamaha MO8 F0 43 10 7F 00 0A 00 01 01 F7
... A386: =CONCATENATE(B386,C386,D386) -> VoiceGMH16 | B386: Voice | C386: GM | D386: H16 | E386: 0 | F386: 0 | G386: 128 | H386: 00 | I386: 00 | J386: 80 | K386: Gunshot | L386: Se | M386: NATUR. | N386: =CONCATENATE(LEFT(B386,1),":",,LEFT(C386,1),RIGHT(C386,1),":",TEXT(G386-1,"000"),":",IF(O386="",K386,O386),CHAR(9),Codes!$B$3,"|",TEXT(E386,"00"),"|",TEXT(F386,"00"),"|",TEXT(G386-1,"000"),CHAR(9),Codes!$B$3,CHAR(9),Codes!$B$4) -> V:GM:127:Gunshot Yamaha MO8|00|00|127 Yamaha MO8 F0 43 10 7F 00 0A 00 01 01 F7
A387: =CONCATENATE(B387,C387,D387) -> VoicePre1A01 | B387: Voice | C387: Pre1 | D387: A01 | E387: 63 | F387: 0 | G387: 1 | H387: 3F | I387: 00 | J387: 01 | K387: Full Grand | L387: Ap | M387: A PIANO | N387: =CONCATENATE(LEFT(B387,1),":",,LEFT(C387,1),RIGHT(C387,1),":",TEXT(G387-1,"000"),":",K387,CHAR(9),Codes!$B$3,"|",TEXT(E387,"00"),"|",TEXT(F387,"00"),"|",TEXT(G387-1,"000"),CHAR(9),Codes!$B$3,CHAR(9),Codes!$B$5) -> V:P1:000:Full Grand Yamaha MO8|63|00|000 Yamaha MO8 F0 43 10 7F 00 0A 00 01 00 F7
A388: =CONCATENATE(B388,C388,D388) -> VoicePre1A02 | B388: Voice | C388: Pre1 | D388: A02 | E388: 63 | F388: 0 | G388: 2 | H388: 3F | I388: 00 | J388: 02 | K388: BriteGrand | L388: Ap | M388: A PIANO | N388: =CONCATENATE(LEFT(B388,1),":",,LEFT(C388,1),RIGHT(C388,1),":",TEXT(G388-1,"000"),":",K388,CHAR(9),Codes!$B$3,"|",TEXT(E388,"00"),"|",TEXT(F388,"00"),"|",TEXT(G388-1,"000"),CHAR(9),Codes!$B$3,CHAR(9),Codes!$B$5) -> V:P1:001:BriteGrand Yamaha MO8|63|00|001 Yamaha MO8 F0 43 10 7F 00 0A 00 01 00 F7
A389: =CONCATENATE(B389,C389,D389) -> VoicePre1A03 | B389: Voice | C389: Pre1 | D389: A03 | E389: 63 | F389: 0 | G389: 3 | H389: 3F | I389: 00 | J389: 03 | K389: Dark Grand | L389: Ap | M389: A PIANO | N389: =CONCATENATE(LEFT(B389,1),":",,LEFT(C389,1),RIGHT(C389,1),":",TEXT(G389-1,"000"),":",K389,CHAR(9),Codes!$B$3,"|",TEXT(E389,"00"),"|",TEXT(F389,"00"),"|",TEXT(G389-1,"000"),CHAR(9),Codes!$B$3,CHAR(9),Codes!$B$5) -> V:P1:002:Dark Grand Yamaha MO8|63|00|002 Yamaha MO8 F0 43 10 7F 00 0A 00 01 00 F7
A390: =CONCATENATE(B390,C390,D390) -> VoicePre1A04 | B390: Voice | C390: Pre1 | D390: A04 | E390: 63 | F390: 0 | G390: 4 | H390: 3F | I390: 00 | J390: 04 | K390: Tacky | L390: Ap | M390: A PIANO | N390: =CONCATENATE(LEFT(B390,1),":",,LEFT(C390,1),RIGHT(C390,1),":",TEXT(G390-1,"000"),":",K390,CHAR(9),Codes!$B$3,"|",TEXT(E390,"00"),"|",TEXT(F390,"00"),"|",TEXT(G390-1,"000"),CHAR(9),Codes!$B$3,CHAR(9),Codes!$B$5) -> V:P1:003:Tacky Yamaha MO8|63|00|003 Yamaha MO8 F0 43 10 7F 00 0A 00 01 00 F7
A391: =CONCATENATE(B391,C391,D391) -> VoicePre1A05 | B391: Voice | C391: Pre1 | D391: A05 | E391: 63 | F391: 0 | G391: 5 | H391: 3F | I391: 00 | J391: 05 | K391: HousePiano | L391: Ap | M391: A PIANO | N391: =CONCATENATE(LEFT(B391,1),":",,LEFT(C391,1),RIGHT(C391,1),":",TEXT(G391-1,"000"),":",K391,CHAR(9),Codes!$B$3,"|",TEXT(E391,"00"),"|",TEXT(F391,"00"),"|",TEXT(G391-1,"000"),CHAR(9),Codes!$B$3,CHAR(9),Codes!$B$5) -> V:P1:004:HousePiano Yamaha MO8|63|00|004 Yamaha MO8 F0 43 10 7F 00 0A 00 01 00 F7
A392: =CONCATENATE(B392,C392,D392) -> VoicePre1A06 | B392: Voice | C392: Pre1 | D392: A06 | E392: 63 | F392: 0 | G392: 6 | H392: 3F | I392: 00 | J392: 06 | K392: Mono Comp | L392: Ap | M392: A PIANO | N392: =CONCATENATE(LEFT(B392,1),":",,LEFT(C392,1),RIGHT(C392,1),":",TEXT(G392-1,"000"),":",K392,CHAR(9),Codes!$B$3,"|",TEXT(E392,"00"),"|",TEXT(F392,"00"),"|",TEXT(G392-1,"000"),CHAR(9),Codes!$B$3,CHAR(9),Codes!$B$5) -> V:P1:005:Mono Comp Yamaha MO8|63|00|005 Yamaha MO8 F0 43 10 7F 00 0A 00 01 00 F7
A393: =CONCATENATE(B393,C393,D393) -> VoicePre1A07 | B393: Voice | C393: Pre1 | D393: A07 | E393: 63 | F393: 0 | G393: 7 | H393: 3F | I393: 00 | J393: 07 | K393: 1968 | L393: Ap | M393: A PIANO | N393: =CONCATENATE(LEFT(B393,1),":",,LEFT(C393,1),RIGHT(C393,1),":",TEXT(G393-1,"000"),":",K393,CHAR(9),Codes!$B$3,"|",TEXT(E393,"00"),"|",TEXT(F393,"00"),"|",TEXT(G393-1,"000"),CHAR(9),Codes!$B$3,CHAR(9),Codes!$B$5) -> V:P1:006:1968 Yamaha MO8|63|00|006 Yamaha MO8 F0 43 10 7F 00 0A 00 01 00 F7
A394: =CONCATENATE(B394,C394,D394) -> VoicePre1A08 | B394: Voice | C394: Pre1 | D394: A08 | E394: 63 | F394: 0 | G394: 8 | H394: 3F | I394: 00 | J394: 08 | K394: 78rpmPiano | L394: Ap | M394: A PIANO | N394: =CONCATENATE(LEFT(B394,1),":",,LEFT(C394,1),RIGHT(C394,1),":",TEXT(G394-1,"000"),":",K394,CHAR(9),Codes!$B$3,"|",TEXT(E394,"00"),"|",TEXT(F394,"00"),"|",TEXT(G394-1,"000"),CHAR(9),Codes!$B$3,CHAR(9),Codes!$B$5) -> V:P1:007:78rpmPiano Yamaha MO8|63|00|007 Yamaha MO8 F0 43 10 7F 00 0A 00 01 00 F7
A395: =CONCATENATE(B395,C395,D395) -> VoicePre1A09 | B395: Voice | C395: Pre1 | D395: A09 | E395: 63 | F395: 0 | G395: 9 | H395: 3F | I395: 00 | J395: 09 | K395: Ragtime | L395: Ap | M395: A PIANO | N395: =CONCATENATE(LEFT(B395,1),":",,LEFT(C395,1),RIGHT(C395,1),":",TEXT(G395-1,"000"),":",K395,CHAR(9),Codes!$B$3,"|",TEXT(E395,"00"),"|",TEXT(F395,"00"),"|",TEXT(G395-1,"000"),CHAR(9),Codes!$B$3,CHAR(9),Codes!$B$5) -> V:P1:008:Ragtime Yamaha MO8|63|00|008 Yamaha MO8 F0 43 10 7F 00 0A 00 01 00 F7
A396: =CONCATENATE(B396,C396,D396) -> VoicePre1A10 | B396: Voice | C396: Pre1 | D396: A10 | E396: 63 | F396: 0 | G396: 10 | H396: 3F | I396: 00 | J396: 0A | K396: BalladKey | L396: Ap | M396: OTHER | N396: =CONCATENATE(LEFT(B396,1),":",,LEFT(C396,1),RIGHT(C396,1),":",TEXT(G396-1,"000"),":",K396,CHAR(9),Codes!$B$3,"|",TEXT(E396,"00"),"|",TEXT(F396,"00"),"|",TEXT(G396-1,"000"),CHAR(9),Codes!$B$3,CHAR(9),Codes!$B$5) -> V:P1:009:BalladKey Yamaha MO8|63|00|009 Yamaha MO8 F0 43 10 7F 00 0A 00 01 00 F7
A397: =CONCATENATE(B397,C397,D397) -> VoicePre1A11 | B397: Voice | C397: Pre1 | D397: A11 | E397: 63 | F397: 0 | G397: 11 | H397: 3F | I397: 00 | J397: 0B | K397: PianoBack | L397: Ap | M397: OTHER | N397: =CONCATENATE(LEFT(B397,1),":",,LEFT(C397,1),RIGHT(C397,1),":",TEXT(G397-1,"000"),":",K397,CHAR(9),Codes!$B$3,"|",TEXT(E397,"00"),"|",TEXT(F397,"00"),"|",TEXT(G397-1,"000"),CHAR(9),Codes!$B$3,CHAR(9),Codes!$B$5) -> V:P1:010:PianoBack Yamaha MO8|63|00|010 Yamaha MO8 F0 43 10 7F 00 0A 00 01 00 F7
A398: =CONCATENATE(B398,C398,D398) -> VoicePre1A12 | B398: Voice | C398: Pre1 | D398: A12 | E398: 63 | F398: 0 | G398: 12 | H398: 3F | I398: 00 | J398: 0C | K398: Piano&Ooh | L398: Ap | M398: OTHER | N398: =CONCATENATE(LEFT(B398,1),":",,LEFT(C398,1),RIGHT(C398,1),":",TEXT(G398-1,"000"),":",K398,CHAR(9),Codes!$B$3,"|",TEXT(E398,"00"),"|",TEXT(F398,"00"),"|",TEXT(G398-1,"000"),CHAR(9),Codes!$B$3,CHAR(9),Codes!$B$5) -> V:P1:011:Piano&Ooh Yamaha MO8|63|00|011 Yamaha MO8 F0 43 10 7F 00 0A 00 01 00 F7
A399: =CONCATENATE(B399,C399,D399) -> VoicePre1A13 | B399: Voice | C399: Pre1 | D399: A13 | E399: 63 | F399: 0 | G399: 13 | H399: 3F | I399: 00 | J399: 0D | K399: HardCP80 | L399: Ap | M399: E GRAND | N399: =CONCATENATE(LEFT(B399,1),":",,LEFT(C399,1),RIGHT(C399,1),":",TEXT(G399-1,"000"),":",K399,CHAR(9),Codes!$B$3,"|",TEXT(E399,"00"),"|",TEXT(F399,"00"),"|",TEXT(G399-1,"000"),CHAR(9),Codes!$B$3,CHAR(9),Codes!$B$5) -> V:P1:012:HardCP80 Yamaha MO8|63|00|012 Yamaha MO8 F0 43 10 7F 00 0A 00 01 00 F7
A400: =CONCATENATE(B400,C400,D400) -> VoicePre1A14 | B400: Voice | C400: Pre1 | D400: A14 | E400: 63 | F400: 0 | G400: 14 | H400: 3F | I400: 00 | J400: 0E | K400: Yama EP's | L400: Kb | M400: E.PIANO | N400: =CONCATENATE(LEFT(B400,1),":",,LEFT(C400,1),RIGHT(C400,1),":",TEXT(G400-1,"000"),":",K400,CHAR(9),Codes!$B$3,"|",TEXT(E400,"00"),"|",TEXT(F400,"00"),"|",TEXT(G400-1,"000"),CHAR(9),Codes!$B$3,CHAR(9),Codes!$B$5) -> V:P1:013:Yama EP's Yamaha MO8|63|00|013 Yamaha MO8 F0 43 10 7F 00 0A 00 01 00 F7
A401: =CONCATENATE(B401,C401,D401) -> VoicePre1A15 | B401: Voice | C401: Pre1 | D401: A15 | E401: 63 | F401: 0 | G401: 15 | H401: 3F | I401: 00 | J401: 0F | K401: DynoStrait | L401: Kb | M401: E.PIANO | N401: =CONCATENATE(LEFT(B401,1),":",,LEFT(C401,1),RIGHT(C401,1),":",TEXT(G401-1,"000"),":",K401,CHAR(9),Codes!$B$3,"|",TEXT(E401,"00"),"|",TEXT(F401,"00"),"|",TEXT(G401-1,"000"),CHAR(9),Codes!$B$3,CHAR(9),Codes!$B$5) -> V:P1:014:DynoStrait Yamaha MO8|63|00|014 Yamaha MO8 F0 43 10 7F 00 0A 00 01 00 F7
A402: =CONCATENATE(B402,C402,D402) -> VoicePre1A16 | B402: Voice | C402: Pre1 | D402: A16 | E402: 63 | F402: 0 | G402: 16 | H402: 3F | I402: 00 | J402: 10 | K402: ChorusHard | L402: Kb | M402: E.PIANO | N402: =CONCATENATE(LEFT(B402,1),":",,LEFT(C402,1),RIGHT(C402,1),":",TEXT(G402-1,"000"),":",K402,CHAR(9),Codes!$B$3,"|",TEXT(E402,"00"),"|",TEXT(F402,"00"),"|",TEXT(G402-1,"000"),CHAR(9),Codes!$B$3,CHAR(9),Codes!$B$5) -> V:P1:015:ChorusHard Yamaha MO8|63|00|015 Yamaha MO8 F0 43 10 7F 00 0A 00 01 00 F7
A403: =CONCATENATE(B403,C403,D403) -> VoicePre1B01 | B403: Voice | C403: Pre1 | D403: B01 | E403: 63 | F403: 0 | G403: 17 | H403: 3F | I403: 00 | J403: 11 | K403: R&B Soft | L403: Kb | M403: E.PIANO | N403: =CONCATENATE(LEFT(B403,1),":",,LEFT(C403,1),RIGHT(C403,1),":",TEXT(G403-1,"000"),":",K403,CHAR(9),Codes!$B$3,"|",TEXT(E403,"00"),"|",TEXT(F403,"00"),"|",TEXT(G403-1,"000"),CHAR(9),Codes!$B$3,CHAR(9),Codes!$B$5) -> V:P1:016:R&B Soft Yamaha MO8|63|00|016 Yamaha MO8 F0 43 10 7F 00 0A 00 01 00 F7
A404: =CONCATENATE(B404,C404,D404) -> VoicePre1B02 | B404: Voice | C404: Pre1 | D404: B02 | E404: 63 | F404: 0 | G404: 18 | H404: 3F | I404: 00 | J404: 12 | K404: Phaser Vin | L404: Kb | M404: E.PIANO | N404: =CONCATENATE(LEFT(B404,1),":",,LEFT(C404,1),RIGHT(C404,1),":",TEXT(G404-1,"000"),":",K404,CHAR(9),Codes!$B$3,"|",TEXT(E404,"00"),"|",TEXT(F404,"00"),"|",TEXT(G404-1,"000"),CHAR(9),Codes!$B$3,CHAR(9),Codes!$B$5) -> V:P1:017:Phaser Vin Yamaha MO8|63|00|017 Yamaha MO8 F0 43 10 7F 00 0A 00 01 00 F7
A405: =CONCATENATE(B405,C405,D405) -> VoicePre1B03 | B405: Voice | C405: Pre1 | D405: B03 | E405: 63 | F405: 0 | G405: 19 | H405: 3F | I405: 00 | J405: 13 | K405: Vintage'74 | L405: Kb | M405: E.PIANO | N405: =CONCATENATE(LEFT(B405,1),":",,LEFT(C405,1),RIGHT(C405,1),":",TEXT(G405-1,"000"),":",K405,CHAR(9),Codes!$B$3,"|",TEXT(E405,"00"),"|",TEXT(F405,"00"),"|",TEXT(G405-1,"000"),CHAR(9),Codes!$B$3,CHAR(9),Codes!$B$5) -> V:P1:018:Vintage'74 Yamaha MO8|63|00|018 Yamaha MO8 F0 43 10 7F 00 0A 00 01 00 F7
... A898: =CONCATENATE(B898,C898,D898) -> VoicePre4H16 | B898: Voice | C898: Pre4 | D898: H16 | E898: 63 | F898: 3 | G898: 128 | H898: 3F | I898: 03 | J898: 80 | K898: Khol | L898: Dr | M898: PERC. | N898: =CONCATENATE(LEFT(B898,1),":",,LEFT(C898,1),RIGHT(C898,1),":",TEXT(G898-1,"000"),":",K898,CHAR(9),Codes!$B$3,"|",TEXT(E898,"00"),"|",TEXT(F898,"00"),"|",TEXT(G898-1,"000"),CHAR(9),Codes!$B$3,CHAR(9),Codes!$B$5) -> V:P4:127:Khol Yamaha MO8|63|03|127 Yamaha MO8 F0 43 10 7F 00 0A 00 01 00 F7
A899: =CONCATENATE(B899,C899,TEXT(G899,"000")) -> VoiceUser1001 | B899: Voice | C899: User1 | D899: A01 | E899: 63 | F899: 8 | G899: 1 | H899: 3F | I899: 08 | J899: 01 | K899: The Hunter | L899: Co | M899: SEQ | N899: =CONCATENATE(LEFT(B899,1),":",,LEFT(C899,1),RIGHT(C899,1),":",TEXT(G899-1,"000"),":",IF(O899="",K899,O899),CHAR(9),Codes!$B$3,"|",TEXT(E899,"00"),"|",TEXT(F899,"00"),"|",TEXT(G899-1,"000"),CHAR(9),Codes!$B$3,CHAR(9),Codes!$B$4) -> V:U1:000:The Hunter Yamaha MO8|63|08|000 Yamaha MO8 F0 43 10 7F 00 0A 00 01 01 F7
A900: =CONCATENATE(B900,C900,TEXT(G900,"000")) -> VoiceUser1002 | B900: Voice | C900: User1 | D900: A02 | E900: 63 | F900: 8 | G900: 2 | H900: 3F | I900: 08 | J900: 02 | K900: Bass'n Pad | L900: Co | M900: SEQ | N900: =CONCATENATE(LEFT(B900,1),":",,LEFT(C900,1),RIGHT(C900,1),":",TEXT(G900-1,"000"),":",IF(O900="",K900,O900),CHAR(9),Codes!$B$3,"|",TEXT(E900,"00"),"|",TEXT(F900,"00"),"|",TEXT(G900-1,"000"),CHAR(9),Codes!$B$3,CHAR(9),Codes!$B$4) -> V:U1:001:Bass'n Pad Yamaha MO8|63|08|001 Yamaha MO8 F0 43 10 7F 00 0A 00 01 01 F7
A901: =CONCATENATE(B901,C901,TEXT(G901,"000")) -> VoiceUser1003 | B901: Voice | C901: User1 | D901: A03 | E901: 63 | F901: 8 | G901: 3 | H901: 3F | I901: 08 | J901: 03 | K901: Surprise | L901: Co | M901: SEQ | N901: =CONCATENATE(LEFT(B901,1),":",,LEFT(C901,1),RIGHT(C901,1),":",TEXT(G901-1,"000"),":",IF(O901="",K901,O901),CHAR(9),Codes!$B$3,"|",TEXT(E901,"00"),"|",TEXT(F901,"00"),"|",TEXT(G901-1,"000"),CHAR(9),Codes!$B$3,CHAR(9),Codes!$B$4) -> V:U1:002:Surprise Yamaha MO8|63|08|002 Yamaha MO8 F0 43 10 7F 00 0A 00 01 01 F7
A902: =CONCATENATE(B902,C902,TEXT(G902,"000")) -> VoiceUser1004 | B902: Voice | C902: User1 | D902: A04 | E902: 63 | F902: 8 | G902: 4 | H902: 3F | I902: 08 | J902: 04 | K902: Quo Vadis | L902: Co | M902: SEQ | N902: =CONCATENATE(LEFT(B902,1),":",,LEFT(C902,1),RIGHT(C902,1),":",TEXT(G902-1,"000"),":",IF(O902="",K902,O902),CHAR(9),Codes!$B$3,"|",TEXT(E902,"00"),"|",TEXT(F902,"00"),"|",TEXT(G902-1,"000"),CHAR(9),Codes!$B$3,CHAR(9),Codes!$B$4) -> V:U1:003:Quo Vadis Yamaha MO8|63|08|003 Yamaha MO8 F0 43 10 7F 00 0A 00 01 01 F7
A903: =CONCATENATE(B903,C903,TEXT(G903,"000")) -> VoiceUser1005 | B903: Voice | C903: User1 | D903: A05 | E903: 63 | F903: 8 | G903: 5 | H903: 3F | I903: 08 | J903: 05 | K903: Metal Arp | L903: Co | M903: SEQ | N903: =CONCATENATE(LEFT(B903,1),":",,LEFT(C903,1),RIGHT(C903,1),":",TEXT(G903-1,"000"),":",IF(O903="",K903,O903),CHAR(9),Codes!$B$3,"|",TEXT(E903,"00"),"|",TEXT(F903,"00"),"|",TEXT(G903-1,"000"),CHAR(9),Codes!$B$3,CHAR(9),Codes!$B$4) -> V:U1:004:Metal Arp Yamaha MO8|63|08|004 Yamaha MO8 F0 43 10 7F 00 0A 00 01 01 F7
A904: =CONCATENATE(B904,C904,TEXT(G904,"000")) -> VoiceUser1006 | B904: Voice | C904: User1 | D904: A06 | E904: 63 | F904: 8 | G904: 6 | H904: 3F | I904: 08 | J904: 06 | K904: TransmittR | L904: Co | M904: SEQ | N904: =CONCATENATE(LEFT(B904,1),":",,LEFT(C904,1),RIGHT(C904,1),":",TEXT(G904-1,"000"),":",IF(O904="",K904,O904),CHAR(9),Codes!$B$3,"|",TEXT(E904,"00"),"|",TEXT(F904,"00"),"|",TEXT(G904-1,"000"),CHAR(9),Codes!$B$3,CHAR(9),Codes!$B$4) -> V:U1:005:TransmittR Yamaha MO8|63|08|005 Yamaha MO8 F0 43 10 7F 00 0A 00 01 01 F7
A905: =CONCATENATE(B905,C905,TEXT(G905,"000")) -> VoiceUser1007 | B905: Voice | C905: User1 | D905: A07 | E905: 63 | F905: 8 | G905: 7 | H905: 3F | I905: 08 | J905: 07 | K905: Pistachio | L905: Co | M905: SEQ | N905: =CONCATENATE(LEFT(B905,1),":",,LEFT(C905,1),RIGHT(C905,1),":",TEXT(G905-1,"000"),":",IF(O905="",K905,O905),CHAR(9),Codes!$B$3,"|",TEXT(E905,"00"),"|",TEXT(F905,"00"),"|",TEXT(G905-1,"000"),CHAR(9),Codes!$B$3,CHAR(9),Codes!$B$4) -> V:U1:006:Pistachio Yamaha MO8|63|08|006 Yamaha MO8 F0 43 10 7F 00 0A 00 01 01 F7
A906: =CONCATENATE(B906,C906,TEXT(G906,"000")) -> VoiceUser1008 | B906: Voice | C906: User1 | D906: A08 | E906: 63 | F906: 8 | G906: 8 | H906: 3F | I906: 08 | J906: 08 | K906: X-Wave | L906: Co | M906: SEQ | N906: =CONCATENATE(LEFT(B906,1),":",,LEFT(C906,1),RIGHT(C906,1),":",TEXT(G906-1,"000"),":",IF(O906="",K906,O906),CHAR(9),Codes!$B$3,"|",TEXT(E906,"00"),"|",TEXT(F906,"00"),"|",TEXT(G906-1,"000"),CHAR(9),Codes!$B$3,CHAR(9),Codes!$B$4) -> V:U1:007:X-Wave Yamaha MO8|63|08|007 Yamaha MO8 F0 43 10 7F 00 0A 00 01 01 F7
A907: =CONCATENATE(B907,C907,TEXT(G907,"000")) -> VoiceUser1009 | B907: Voice | C907: User1 | D907: A09 | E907: 63 | F907: 8 | G907: 9 | H907: 3F | I907: 08 | J907: 09 | K907: Cherry | L907: Co | M907: SEQ | N907: =CONCATENATE(LEFT(B907,1),":",,LEFT(C907,1),RIGHT(C907,1),":",TEXT(G907-1,"000"),":",IF(O907="",K907,O907),CHAR(9),Codes!$B$3,"|",TEXT(E907,"00"),"|",TEXT(F907,"00"),"|",TEXT(G907-1,"000"),CHAR(9),Codes!$B$3,CHAR(9),Codes!$B$4) -> V:U1:008:Cherry Yamaha MO8|63|08|008 Yamaha MO8 F0 43 10 7F 00 0A 00 01 01 F7
A908: =CONCATENATE(B908,C908,TEXT(G908,"000")) -> VoiceUser1010 | B908: Voice | C908: User1 | D908: A10 | E908: 63 | F908: 8 | G908: 10 | H908: 3F | I908: 08 | J908: 0A | K908: Elec Drum | L908: Co | M908: SEQ | N908: =CONCATENATE(LEFT(B908,1),":",,LEFT(C908,1),RIGHT(C908,1),":",TEXT(G908-1,"000"),":",IF(O908="",K908,O908),CHAR(9),Codes!$B$3,"|",TEXT(E908,"00"),"|",TEXT(F908,"00"),"|",TEXT(G908-1,"000"),CHAR(9),Codes!$B$3,CHAR(9),Codes!$B$4) -> V:U1:009:Elec Drum Yamaha MO8|63|08|009 Yamaha MO8 F0 43 10 7F 00 0A 00 01 01 F7
A909: =CONCATENATE(B909,C909,TEXT(G909,"000")) -> VoiceUser1011 | B909: Voice | C909: User1 | D909: A11 | E909: 63 | F909: 8 | G909: 11 | H909: 3F | I909: 08 | J909: 0B | K909: SimpleSize | L909: Co | M909: SEQ | N909: =CONCATENATE(LEFT(B909,1),":",,LEFT(C909,1),RIGHT(C909,1),":",TEXT(G909-1,"000"),":",IF(O909="",K909,O909),CHAR(9),Codes!$B$3,"|",TEXT(E909,"00"),"|",TEXT(F909,"00"),"|",TEXT(G909-1,"000"),CHAR(9),Codes!$B$3,CHAR(9),Codes!$B$4) -> V:U1:010:SimpleSize Yamaha MO8|63|08|010 Yamaha MO8 F0 43 10 7F 00 0A 00 01 01 F7
A910: =CONCATENATE(B910,C910,TEXT(G910,"000")) -> VoiceUser1012 | B910: Voice | C910: User1 | D910: A12 | E910: 63 | F910: 8 | G910: 12 | H910: 3F | I910: 08 | J910: 0C | K910: Straighter | L910: Co | M910: SEQ | N910: =CONCATENATE(LEFT(B910,1),":",,LEFT(C910,1),RIGHT(C910,1),":",TEXT(G910-1,"000"),":",IF(O910="",K910,O910),CHAR(9),Codes!$B$3,"|",TEXT(E910,"00"),"|",TEXT(F910,"00"),"|",TEXT(G910-1,"000"),CHAR(9),Codes!$B$3,CHAR(9),Codes!$B$4) -> V:U1:011:Straighter Yamaha MO8|63|08|011 Yamaha MO8 F0 43 10 7F 00 0A 00 01 01 F7
... A1154: =CONCATENATE(B1154,C1154,TEXT(G1154,"000")) -> VoiceUser2128 | B1154: Voice | C1154: User2 | D1154: H16 | E1154: 63 | F1154: 9 | G1154: 128 | H1154: 3F | I1154: 09 | J1154: 80 | K1154: Expansion | L1154: Se | M1154: SYNTH | N1154: =CONCATENATE(LEFT(B1154,1),":",,LEFT(C1154,1),RIGHT(C1154,1),":",TEXT(G1154-1,"000"),":",IF(O1154="",K1154,O1154),CHAR(9),Codes!$B$3,"|",TEXT(E1154,"00"),"|",TEXT(F1154,"00"),"|",TEXT(G1154-1,"000"),CHAR(9),Codes!$B$3,CHAR(9),Codes!$B$4) -> V:U2:127:Expansion Yamaha MO8|63|09|127 Yamaha MO8 F0 43 10 7F 00 0A 00 01 01 F7

Sheet Codes
D1: MSB, LSB, and Range of Program Nos.
A3: Device Name: | B3: Yamaha MO8 | D3: MSB | F3: LSB | H3: Program No. | I3: Type | J3: Bank Memory | K3: Description
A4: Change to Performance Mode: | B4: F0 43 10 7F 00 0A 00 01 01 F7 | D4: Decimal | E4: Hex | F4: Decimal | G4: Hex | H4: Decimal
A5: Change to Voice Mode: | B5: F0 43 10 7F 00 0A 00 01 00 F7 | D5: 0 | E5: 0 | F5: 0 | G5: 0 | H5: 0-127 | I5: Normal Voice | J5: GM Voice
D6: 127 | E6: 7F | F6: 0 | G6: 0 | H6: 0 | I6: Drum Voice | J6: GM Drum
D7: 63 | E7: 3F | F7: 0 | G7: 0 | H7: 0-127 | I7: Normal Voice | J7: Preset 1
F8: 1 | G8: 1 | H8: 0-127 | J8: Preset 2
F9: 2 | G9: 2 | H9: 0-127 | J9: Preset 3
F10: 3 | G10: 3 | H10: 0-127 | J10: Preset 4
F11: 8 | G11: 8 | H11: 0-127 | J11: User 1
F12: 9 | G12: 9 | H12: 0-127 | J12: User 2
F13: 32 | G13: 20 | H13: 0-63 | I13: Drum Voice | J13: Preset
F14: 40 | G14: 28 | H14: 0-31 | J14: User
F15: 60 | G15: 3C | H15: 0-15 | I15: Mixing Voice | J15: User | K15: Can be selected in the Voice Pattern Mode
F16: 64 | G16: 40 | H16: 0-127 | I16: Performance | J16: User 1 (internal)
F17: 65 | G17: 41 | H17: 0-127 | J17: User 2 (internal)
D19: Program numbers as shown in the synth LCD (and in the Yamaha MO6/8 Data List manual) range from 1-128; in the MIDI program change string you send to the MO, they have to be transposed down 1, to 0-127 (as shown in the above table), for the instrument to change to the correct program
